BEGIN:VCALENDAR
VERSION:2.0
PRODID:-//DESMOND  CHILD - ECPv6.0.9//NONSGML v1.0//EN
CALSCALE:GREGORIAN
METHOD:PUBLISH
X-WR-CALNAME:DESMOND  CHILD
X-ORIGINAL-URL:https://desmondchild.com
X-WR-CALDESC:Events for DESMOND  CHILD
REFRESH-INTERVAL;VALUE=DURATION:PT1H
X-Robots-Tag:noindex
X-PUBLISHED-TTL:PT1H
BEGIN:VTIMEZONE
TZID:America/New_York
BEGIN:DAYLIGHT
TZOFFSETFROM:-0500
TZOFFSETTO:-0400
TZNAME:EDT
DTSTART:20190310T070000
END:DAYLIGHT
BEGIN:STANDARD
TZOFFSETFROM:-0400
TZOFFSETTO:-0500
TZNAME:EST
DTSTART:20191103T060000
END:STANDARD
END:VTIMEZONE
BEGIN:VEVENT
DTSTART;TZID=America/New_York:20191028T143000
DTEND;TZID=America/New_York:20191028T153000
DTSTAMP:20260422T221546
CREATED:20191028T172642Z
LAST-MODIFIED:20191028T172811Z
UID:4721-1572273000-1572276600@desmondchild.com
SUMMARY:Live interview on SiriusXM Channel 106 Volume “TrunkNation”
DESCRIPTION:
URL:https://desmondchild.com/event/live-interview-on-siriusxm-channel-106-volume-trunknation/
CATEGORIES:Performance,Personal Appearance
ATTACH;FMTTYPE=image/jpeg:https://desmondchild.com/wp-content/uploads/2019/10/trunknation.jpg
END:VEVENT
BEGIN:VEVENT
DTSTART;TZID=America/New_York:20191028T090000
DTEND;TZID=America/New_York:20191028T093000
DTSTAMP:20260422T221546
CREATED:20191028T172434Z
LAST-MODIFIED:20191028T172434Z
UID:4719-1572253200-1572255000@desmondchild.com
SUMMARY:Fox TV’s Good Day New York (live interview & performance)
DESCRIPTION:
URL:https://desmondchild.com/event/fox-tvs-good-day-new-york-live-interview-performance/
CATEGORIES:Performance,Personal Appearance
ATTACH;FMTTYPE=image/jpeg:https://desmondchild.com/wp-content/uploads/2019/09/Desmond-Child_Feinsteins-54-Below-NYC-1_Photo-by-Michael-Hull.jpeg
END:VEVENT
BEGIN:VEVENT
DTSTART;TZID=America/New_York:20191024T200000
DTEND;TZID=America/New_York:20191024T233000
DTSTAMP:20260422T221546
CREATED:20190612T192305Z
LAST-MODIFIED:20190612T192348Z
UID:4333-1571947200-1571959800@desmondchild.com
SUMMARY:Latin Songwriters Hall Of Fame - 2019 LA MUSA AWARDS
DESCRIPTION:Latin Songwriters Hall Of Fame \n2019 LA MUSA AWARDS \nat the James L. Knight Center Miami
URL:https://desmondchild.com/event/latin-songwriters-hall-of-fame-2019-la-musa-awards/
CATEGORIES:Awards Show,Performance,Personal Appearance,Special Event
ATTACH;FMTTYPE=image/jpeg:https://desmondchild.com/wp-content/uploads/2019/05/LSHOF.jpg
END:VEVENT
BEGIN:VEVENT
DTSTART;TZID=America/New_York:20191020T200000
DTEND;TZID=America/New_York:20191020T233000
DTSTAMP:20260422T221546
CREATED:20190612T192153Z
LAST-MODIFIED:20190612T192153Z
UID:4331-1571601600-1571614200@desmondchild.com
SUMMARY:Desmond Child performing with Erika Ender in Panama
DESCRIPTION:
URL:https://desmondchild.com/event/desmond-child-performing-with-erika-ender-in-panama/
CATEGORIES:Performance,Personal Appearance,Special Event
ATTACH;FMTTYPE=image/jpeg:https://desmondchild.com/wp-content/uploads/2017/11/10-19-17-LaMusa_5th_MH_21633.jpg
END:VEVENT
BEGIN:VEVENT
DTSTART;TZID=America/New_York:20190531T220000
DTEND;TZID=America/New_York:20190531T230000
DTSTAMP:20260422T221546
CREATED:20190531T004832Z
LAST-MODIFIED:20190531T004924Z
UID:4278-1559340000-1559343600@desmondchild.com
SUMMARY:THE KATE: Desmond Child (404)
DESCRIPTION:Streaming premiere on Friday\, May 31 at 10 p.m. on thekate.tv \nGrammy Award-winning songwriter Desmond Child appears on THE KATE on Connecticut Public Broadcasting and online at http://www.thekate.tv \nFriday May 31st at 10:00 pm.to share the music and stories from his genre-defying collaborations. On stage with a hot band\, songs include “I Was Made for Lovin’ You” (KISS)\, “You Give Love a Bad Name” (Bon Jovi)\, “Angel” and “Dude Looks Like a Lady” (Aerosmith)\, and a Ricky Martin medley. This hit-maker’s songs have sold more than 500 million records worldwide. He is joined by special guests: Broadway’s Mandy Gonzalez and Deborah Cox.
URL:https://desmondchild.com/event/the-kate-desmond-child-404/
CATEGORIES:Performance,Personal Appearance,Special Event
ATTACH;FMTTYPE=image/jpeg:https://desmondchild.com/wp-content/uploads/2019/05/TheKateDesmond.jpg
END:VEVENT
END:VCALENDAR